BEGIN:VCALENDAR
VERSION:2.0
PRODID:-//Sanctuary Golf Club - ECPv6.15.18//NONSGML v1.0//EN
CALSCALE:GREGORIAN
METHOD:PUBLISH
X-WR-CALNAME:Sanctuary Golf Club
X-ORIGINAL-URL:https://www.sanctuarygolf.club
X-WR-CALDESC:Events for Sanctuary Golf Club
REFRESH-INTERVAL;VALUE=DURATION:PT1H
X-Robots-Tag:noindex
X-PUBLISHED-TTL:PT1H
BEGIN:VTIMEZONE
TZID:UTC
BEGIN:STANDARD
TZOFFSETFROM:+0000
TZOFFSETTO:+0000
TZNAME:UTC
DTSTART:20240101T000000
END:STANDARD
END:VTIMEZONE
BEGIN:VEVENT
DTSTART;TZID=UTC:20250719T080000
DTEND;TZID=UTC:20250719T140000
DTSTAMP:20260421T114441
CREATED:20250319T233642Z
LAST-MODIFIED:20250530T004702Z
UID:10000103-1752912000-1752933600@www.sanctuarygolf.club
SUMMARY:SGC 2 Person "Birdie Back" Scramble
DESCRIPTION:July 19\, 2025- 2 Person “Birdie Back” Scramble\n@ Sanctuary Golf Club \nStart Time - 9:00am Shotgun  \n“BIRDIE BACK SCRAMBLE” is a  a team of 2 golfers playing a scramble format. If a team makes a BIRDIE on a hole each player will then move back a tee box on the next hole. (Example: Player 1 plays GOLD tees and Player 2 plays WHITE tees and a BIRDIE is made\, player 1 would go back to WHITE tee and player 2 would go back to BLUE tee). If team makes a BOGEY players will move up a tee box on the next hole.   \nCost Per Event    \n$110 per player – Non-Members  \n$65 per player – Birdie Members  \n$40 per player – Eagle Members \nCost includes Green Fees\, Cart\, Lunch & Prizes. \nPay-out will be 1st. 2nd\, and Last place in 2 divisions. \nDivisions will be determined by splitting field \naccording to scores after round is completed.\n \nField Size – Limited to 32 Teams\nDeadline to sign-up is\nThursday July 15th @ 5:00pm\n(18 Teams needed to have tournament)\n \nCall Sanctuary GC @ 912.466.0080 to sign-up   \nPayment REQUIRED at time of entry \n===================================== \n 
URL:https://www.sanctuarygolf.club/event/sgc-2-person-summer-scramble/
END:VEVENT
END:VCALENDAR