BEGIN:VCALENDAR
VERSION:2.0
PRODID:-//Sanctuary Golf Club - ECPv6.15.18//NONSGML v1.0//EN
CALSCALE:GREGORIAN
METHOD:PUBLISH
X-WR-CALNAME:Sanctuary Golf Club
X-ORIGINAL-URL:https://www.sanctuarygolf.club
X-WR-CALDESC:Events for Sanctuary Golf Club
REFRESH-INTERVAL;VALUE=DURATION:PT1H
X-Robots-Tag:noindex
X-PUBLISHED-TTL:PT1H
BEGIN:VTIMEZONE
TZID:UTC
BEGIN:STANDARD
TZOFFSETFROM:+0000
TZOFFSETTO:+0000
TZNAME:UTC
DTSTART:20240101T000000
END:STANDARD
END:VTIMEZONE
BEGIN:VEVENT
DTSTART;TZID=UTC:20250828T090000
DTEND;TZID=UTC:20250828T120000
DTSTAMP:20260421T144940
CREATED:20250618T201324Z
LAST-MODIFIED:20250625T130401Z
UID:10000116-1756371600-1756382400@www.sanctuarygolf.club
SUMMARY:Callaway "Putter & Wedge" Fitting Event
DESCRIPTION:Location: Sanctuary GC Driving Range/Putting Area \nTime – 9:00am to 12:00pm
URL:https://www.sanctuarygolf.club/event/callaway-putter-fitting-event/
END:VEVENT
END:VCALENDAR