BEGIN:VCALENDAR
VERSION:2.0
PRODID:-//Sanctuary Golf Club - ECPv6.15.18//NONSGML v1.0//EN
CALSCALE:GREGORIAN
METHOD:PUBLISH
X-WR-CALNAME:Sanctuary Golf Club
X-ORIGINAL-URL:https://www.sanctuarygolf.club
X-WR-CALDESC:Events for Sanctuary Golf Club
REFRESH-INTERVAL;VALUE=DURATION:PT1H
X-Robots-Tag:noindex
X-PUBLISHED-TTL:PT1H
BEGIN:VTIMEZONE
TZID:UTC
BEGIN:STANDARD
TZOFFSETFROM:+0000
TZOFFSETTO:+0000
TZNAME:UTC
DTSTART:20250101T000000
END:STANDARD
END:VTIMEZONE
BEGIN:VEVENT
DTSTART;TZID=UTC:20260210T110000
DTEND;TZID=UTC:20260210T170000
DTSTAMP:20260421T102636
CREATED:20260114T194042Z
LAST-MODIFIED:20260114T194252Z
UID:10000145-1770721200-1770742800@www.sanctuarygolf.club
SUMMARY:CLOSE - Maintenance
DESCRIPTION:
URL:https://www.sanctuarygolf.club/event/close-maintenance/
END:VEVENT
END:VCALENDAR