BEGIN:VCALENDAR
VERSION:2.0
PRODID:-//Sanctuary Golf Club - ECPv6.15.18//NONSGML v1.0//EN
CALSCALE:GREGORIAN
METHOD:PUBLISH
X-WR-CALNAME:Sanctuary Golf Club
X-ORIGINAL-URL:https://www.sanctuarygolf.club
X-WR-CALDESC:Events for Sanctuary Golf Club
REFRESH-INTERVAL;VALUE=DURATION:PT1H
X-Robots-Tag:noindex
X-PUBLISHED-TTL:PT1H
BEGIN:VTIMEZONE
TZID:UTC
BEGIN:STANDARD
TZOFFSETFROM:+0000
TZOFFSETTO:+0000
TZNAME:UTC
DTSTART:20240101T000000
END:STANDARD
END:VTIMEZONE
BEGIN:VEVENT
DTSTART;VALUE=DATE:20250602
DTEND;VALUE=DATE:20250609
DTSTAMP:20260421T114603
CREATED:20241011T170546Z
LAST-MODIFIED:20241011T170644Z
UID:10000079-1748822400-1749427199@www.sanctuarygolf.club
SUMMARY:CLOSE - Maintenance
DESCRIPTION:
URL:https://www.sanctuarygolf.club/event/ga-pga-sr-division-2/
END:VEVENT
BEGIN:VEVENT
DTSTART;TZID=UTC:20250624T080000
DTEND;TZID=UTC:20250624T140000
DTSTAMP:20260421T114603
CREATED:20250410T131340Z
LAST-MODIFIED:20250410T131340Z
UID:10000104-1750752000-1750773600@www.sanctuarygolf.club
SUMMARY:Ladies - CLASP
DESCRIPTION:
URL:https://www.sanctuarygolf.club/event/ladies-clasp/
END:VEVENT
BEGIN:VEVENT
DTSTART;TZID=UTC:20250630T080000
DTEND;TZID=UTC:20250630T123000
DTSTAMP:20260421T114603
CREATED:20250528T211001Z
LAST-MODIFIED:20250528T211017Z
UID:10000111-1751270400-1751286600@www.sanctuarygolf.club
SUMMARY:GSGA Junior Tour
DESCRIPTION:
URL:https://www.sanctuarygolf.club/event/gsga-junior-tour-2/
END:VEVENT
END:VCALENDAR