BEGIN:VCALENDAR
VERSION:2.0
PRODID:-//Sanctuary Golf Club - ECPv6.15.18//NONSGML v1.0//EN
CALSCALE:GREGORIAN
METHOD:PUBLISH
X-WR-CALNAME:Sanctuary Golf Club
X-ORIGINAL-URL:https://www.sanctuarygolf.club
X-WR-CALDESC:Events for Sanctuary Golf Club
REFRESH-INTERVAL;VALUE=DURATION:PT1H
X-Robots-Tag:noindex
X-PUBLISHED-TTL:PT1H
BEGIN:VTIMEZONE
TZID:UTC
BEGIN:STANDARD
TZOFFSETFROM:+0000
TZOFFSETTO:+0000
TZNAME:UTC
DTSTART:20240101T000000
END:STANDARD
END:VTIMEZONE
BEGIN:VEVENT
DTSTART;VALUE=DATE:20250804
DTEND;VALUE=DATE:20250809
DTSTAMP:20260421T132436
CREATED:20241011T170728Z
LAST-MODIFIED:20241011T170728Z
UID:10000080-1754265600-1754697599@www.sanctuarygolf.club
SUMMARY:CLOSED - Maintenance
DESCRIPTION:
URL:https://www.sanctuarygolf.club/event/closed-maintenance-2/
END:VEVENT
BEGIN:VEVENT
DTSTART;TZID=UTC:20250814T090000
DTEND;TZID=UTC:20250814T120000
DTSTAMP:20260421T132436
CREATED:20250625T130450Z
LAST-MODIFIED:20250625T130450Z
UID:10000117-1755162000-1755172800@www.sanctuarygolf.club
SUMMARY:Callaway "Putter & Wedge" Fitting Event
DESCRIPTION:Location: Sanctuary GC Driving Range/Putting Area \nTime – 9:00am to 12:00pm
URL:https://www.sanctuarygolf.club/event/callaway-putter-wedge-fitting-event/
END:VEVENT
BEGIN:VEVENT
DTSTART;TZID=UTC:20250828T090000
DTEND;TZID=UTC:20250828T120000
DTSTAMP:20260421T132436
CREATED:20250618T201324Z
LAST-MODIFIED:20250625T130401Z
UID:10000116-1756371600-1756382400@www.sanctuarygolf.club
SUMMARY:Callaway "Putter & Wedge" Fitting Event
DESCRIPTION:Location: Sanctuary GC Driving Range/Putting Area \nTime – 9:00am to 12:00pm
URL:https://www.sanctuarygolf.club/event/callaway-putter-fitting-event/
END:VEVENT
BEGIN:VEVENT
DTSTART;TZID=UTC:20250830T080000
DTEND;TZID=UTC:20250830T130000
DTSTAMP:20260421T132436
CREATED:20250415T182812Z
LAST-MODIFIED:20250415T182812Z
UID:10000105-1756540800-1756558800@www.sanctuarygolf.club
SUMMARY:Southeast Junior Golf Tour
DESCRIPTION:
URL:https://www.sanctuarygolf.club/event/southeast-junior-golf-tour-5/
END:VEVENT
BEGIN:VEVENT
DTSTART;TZID=UTC:20250831T080000
DTEND;TZID=UTC:20250831T130000
DTSTAMP:20260421T132436
CREATED:20250415T182844Z
LAST-MODIFIED:20250415T182844Z
UID:10000106-1756627200-1756645200@www.sanctuarygolf.club
SUMMARY:Southeast Junior Golf Tour
DESCRIPTION:
URL:https://www.sanctuarygolf.club/event/southeast-junior-golf-tour-6/
END:VEVENT
END:VCALENDAR