BEGIN:VCALENDAR
VERSION:2.0
PRODID:-//Sanctuary Golf Club - ECPv6.15.18//NONSGML v1.0//EN
CALSCALE:GREGORIAN
METHOD:PUBLISH
X-WR-CALNAME:Sanctuary Golf Club
X-ORIGINAL-URL:https://www.sanctuarygolf.club
X-WR-CALDESC:Events for Sanctuary Golf Club
REFRESH-INTERVAL;VALUE=DURATION:PT1H
X-Robots-Tag:noindex
X-PUBLISHED-TTL:PT1H
BEGIN:VTIMEZONE
TZID:UTC
BEGIN:STANDARD
TZOFFSETFROM:+0000
TZOFFSETTO:+0000
TZNAME:UTC
DTSTART:20240101T000000
END:STANDARD
END:VTIMEZONE
BEGIN:VEVENT
DTSTART;TZID=UTC:20251004T080000
DTEND;TZID=UTC:20251004T140000
DTSTAMP:20260421T145107
CREATED:20250419T010155Z
LAST-MODIFIED:20250419T010155Z
UID:10000107-1759564800-1759586400@www.sanctuarygolf.club
SUMMARY:SGC Club Championship
DESCRIPTION:
URL:https://www.sanctuarygolf.club/event/sgc-club-championship-4/
END:VEVENT
BEGIN:VEVENT
DTSTART;TZID=UTC:20251005T080000
DTEND;TZID=UTC:20251005T140000
DTSTAMP:20260421T145107
CREATED:20250419T010244Z
LAST-MODIFIED:20250419T010244Z
UID:10000108-1759651200-1759672800@www.sanctuarygolf.club
SUMMARY:SGC Club Championship
DESCRIPTION:
URL:https://www.sanctuarygolf.club/event/sgc-club-championship-5/
END:VEVENT
BEGIN:VEVENT
DTSTART;TZID=UTC:20251025T080000
DTEND;TZID=UTC:20251025T140000
DTSTAMP:20260421T145107
CREATED:20250312T164151Z
LAST-MODIFIED:20250312T164151Z
UID:10000102-1761379200-1761400800@www.sanctuarygolf.club
SUMMARY:Camden County Sheriff Department
DESCRIPTION:
URL:https://www.sanctuarygolf.club/event/camden-county-sheriff-department/
END:VEVENT
END:VCALENDAR