BEGIN:VCALENDAR
VERSION:2.0
PRODID:-//Sanctuary Golf Club - ECPv6.15.18//NONSGML v1.0//EN
CALSCALE:GREGORIAN
METHOD:PUBLISH
X-WR-CALNAME:Sanctuary Golf Club
X-ORIGINAL-URL:https://www.sanctuarygolf.club
X-WR-CALDESC:Events for Sanctuary Golf Club
REFRESH-INTERVAL;VALUE=DURATION:PT1H
X-Robots-Tag:noindex
X-PUBLISHED-TTL:PT1H
BEGIN:VTIMEZONE
TZID:UTC
BEGIN:STANDARD
TZOFFSETFROM:+0000
TZOFFSETTO:+0000
TZNAME:UTC
DTSTART:20240101T000000
END:STANDARD
END:VTIMEZONE
BEGIN:VEVENT
DTSTART;TZID=UTC:20251206T080000
DTEND;TZID=UTC:20251206T140000
DTSTAMP:20260421T115645
CREATED:20250525T142220Z
LAST-MODIFIED:20251025T194242Z
UID:10000110-1765008000-1765029600@www.sanctuarygolf.club
SUMMARY:SGC-GSP Toys for Tots
DESCRIPTION:2025 SGC / GSP Toys for Tots \n2-Person Scramble \nDecember 6\, 2025   \nAll donated toys will be collected by the Georgia State Patrol – Jekyll Post  \nScramble Format    \nScramble format involves 2-person teams where each player on the team hits a tee shot\, and then the players decide which shot they like better. The two (2) players then play from that spot. The person whose shot was not taken picks up their ball and moves it within 6” of ball selected. All shots must remain in the original condition the ball selected was in. This procedure is used for every shot until the ball is holed out on the green.     \n\nPay-outs will be 1st\, 2nd \, and Last place in 2 divisions.   \n\n\nDivisions will be determined by splitting the field according to scores after round is completed. It matching cards is needed to determine divisions; the winner of tiebreaker will get best position (Example: winner will be 1st in division instead of last in a division)    \n\n\nTiebreakers will be determined by using the last 9\, last 6\, last 3\, etc.\n\n  \nLocal Rules:    \n\nBall drops located across bridge on #13 \n\n\nBall drops located across bridge on #16 at front right-side of green  \n\n\nOn or across any asphalt roads is OUT OF BOUNDS. \n\n\nAll WHITE fencing is OUT OF BOUNDS  \n\n  \nTEE’S -     \nLadies – RED \nMen (81 years old & UP) - RED \nMen (71-80 years old) - RED/GREEN \nMen (61-70 years old) - GOLD \nMen (60 & under) – WHITE  
URL:https://www.sanctuarygolf.club/event/sgc-gsp-toys-for-tots-2/
END:VEVENT
BEGIN:VEVENT
DTSTART;VALUE=DATE:20251209
DTEND;VALUE=DATE:20251210
DTSTAMP:20260421T115645
CREATED:20251025T115025Z
LAST-MODIFIED:20251025T115612Z
UID:10000136-1765238400-1765324799@www.sanctuarygolf.club
SUMMARY:Ga. Golf Course Superintendents
DESCRIPTION:
URL:https://www.sanctuarygolf.club/event/ga-golf-course-superintendents/
END:VEVENT
BEGIN:VEVENT
DTSTART;TZID=UTC:20251216T080000
DTEND;TZID=UTC:20251216T110000
DTSTAMP:20260421T115645
CREATED:20251121T202349Z
LAST-MODIFIED:20251121T202438Z
UID:10000141-1765872000-1765882800@www.sanctuarygolf.club
SUMMARY:Local 122 Fire Dept. Jax
DESCRIPTION:
URL:https://www.sanctuarygolf.club/event/local-122-fire-dept-jax/
END:VEVENT
END:VCALENDAR