BEGIN:VCALENDAR
VERSION:2.0
PRODID:-//Sanctuary Golf Club - ECPv6.15.18//NONSGML v1.0//EN
CALSCALE:GREGORIAN
METHOD:PUBLISH
X-WR-CALNAME:Sanctuary Golf Club
X-ORIGINAL-URL:https://www.sanctuarygolf.club
X-WR-CALDESC:Events for Sanctuary Golf Club
REFRESH-INTERVAL;VALUE=DURATION:PT1H
X-Robots-Tag:noindex
X-PUBLISHED-TTL:PT1H
BEGIN:VTIMEZONE
TZID:UTC
BEGIN:STANDARD
TZOFFSETFROM:+0000
TZOFFSETTO:+0000
TZNAME:UTC
DTSTART:20250101T000000
END:STANDARD
END:VTIMEZONE
BEGIN:VEVENT
DTSTART;VALUE=DATE:20260803
DTEND;VALUE=DATE:20260808
DTSTAMP:20260421T145108
CREATED:20250918T124406Z
LAST-MODIFIED:20250918T124406Z
UID:10000130-1785715200-1786147199@www.sanctuarygolf.club
SUMMARY:CLOSED - Maintenance
DESCRIPTION:
URL:https://www.sanctuarygolf.club/event/closed-maintenance-5/
END:VEVENT
BEGIN:VEVENT
DTSTART;VALUE=DATE:20260824
DTEND;VALUE=DATE:20260825
DTSTAMP:20260421T145108
CREATED:20251115T020655Z
LAST-MODIFIED:20251115T020655Z
UID:10000139-1787529600-1787615999@www.sanctuarygolf.club
SUMMARY:Ga. PGA South Chapter Pro-Am
DESCRIPTION:
URL:https://www.sanctuarygolf.club/event/ga-pga-south-chapter-pro-am/
END:VEVENT
END:VCALENDAR